<?xml version="1.0" encoding="utf-8"?>
    <TileMap version="1.0.0" tilemapservice="http://tms.osgeo.org/1.0.0">
      <Title>044.vrt</Title>
      <Abstract></Abstract>
      <SRS>LOCAL_CS["LOCAL - (unsupported)",UNIT["Meter",1]]</SRS>
      <BoundingBox minx="4429660.53749999962747" miny="471613.39999999996508" maxx="4430630.84999999962747" maxy="472390.83749999996508"/>
      <Origin x="4429660.53749999962747" y="471613.39999999996508"/>
      <TileFormat width="256" height="256" mime-type="image/png" extension="png"/>
      <TileSets profile="raster">
        <TileSet href="0" units-per-pixel="4.00000000000000" order="0"/>
        <TileSet href="1" units-per-pixel="2.00000000000000" order="1"/>
        <TileSet href="2" units-per-pixel="1.00000000000000" order="2"/>
        <TileSet href="3" units-per-pixel="0.50000000000000" order="3"/>
        <TileSet href="4" units-per-pixel="0.25000000000000" order="4"/>
        <TileSet href="5" units-per-pixel="0.12500000000000" order="5"/>
        <TileSet href="6" units-per-pixel="0.06250000000000" order="6"/>
      </TileSets>
    </TileMap>
    