<?xml version="1.0" encoding="utf-8"?>
    <TileMap version="1.0.0" tilemapservice="http://tms.osgeo.org/1.0.0">
      <Title>ITESTE009011NeighObliq3350N_110529.tif</Title>
      <Abstract></Abstract>
      <SRS>PROJCS["WGS 84 / UTM zone 32N",GEOGCS["WGS 84",DATUM["WGS_1984",SPHEROID["WGS 84",6378137,298.257223563,AUTHORITY["EPSG","7030"]],AUTHORITY["EPSG","6326"]],PRIMEM["Greenwich",0],UNIT["degree",0.0174532925199433],AUTHORITY["EPSG","4326"]],PROJECTION["Transverse_Mercator"],PARAMETER["latitude_of_origin",0],PARAMETER["central_meridian",9],PARAMETER["scale_factor",0.9996],PARAMETER["false_easting",500000],PARAMETER["false_northing",0],UNIT["metre",1,AUTHORITY["EPSG","9001"]],AUTHORITY["EPSG","32632"]]</SRS>
      <BoundingBox minx="4403264.43931999988854" miny="524216.24091100000078" maxx="4403467.43931999988854" maxy="524520.74091099994257"/>
      <Origin x="4403264.43931999988854" y="524216.24091100000078"/>
      <TileFormat width="256" height="256" mime-type="image/png" extension="png"/>
      <TileSets profile="raster">
        <TileSet href="0" units-per-pixel="1.99999999999962" order="0"/>
        <TileSet href="1" units-per-pixel="0.99999999999981" order="1"/>
        <TileSet href="2" units-per-pixel="0.49999999999990" order="2"/>
        <TileSet href="3" units-per-pixel="0.24999999999995" order="3"/>
        <TileSet href="4" units-per-pixel="0.12499999999998" order="4"/>
        <TileSet href="5" units-per-pixel="0.06249999999999" order="5"/>
      </TileSets>
    </TileMap>
    