<?xml version="1.0" encoding="utf-8"?>
    <TileMap version="1.0.0" tilemapservice="http://tms.osgeo.org/1.0.0">
      <Title>ITMANU017016NeighObliq6955SE_100523.tif</Title>
      <Abstract></Abstract>
      <SRS>PROJCS["WGS 84 / UTM zone 32N",GEOGCS["WGS 84",DATUM["WGS_1984",SPHEROID["WGS 84",6378137,298.257223563,AUTHORITY["EPSG","7030"]],AUTHORITY["EPSG","6326"]],PRIMEM["Greenwich",0],UNIT["degree",0.0174532925199433],AUTHORITY["EPSG","4326"]],PROJECTION["Transverse_Mercator"],PARAMETER["latitude_of_origin",0],PARAMETER["central_meridian",9],PARAMETER["scale_factor",0.9996],PARAMETER["false_easting",500000],PARAMETER["false_northing",0],UNIT["metre",1,AUTHORITY["EPSG","9001"]],AUTHORITY["EPSG","32632"]]</SRS>
      <BoundingBox minx="4421057.46525000035763" miny="465917.88920999999391" maxx="4421260.46525000035763" maxy="466222.38920999999391"/>
      <Origin x="4421057.46525000035763" y="465917.88920999999391"/>
      <TileFormat width="256" height="256" mime-type="image/png" extension="png"/>
      <TileSets profile="raster">
        <TileSet href="0" units-per-pixel="2.00000000000000" order="0"/>
        <TileSet href="1" units-per-pixel="1.00000000000000" order="1"/>
        <TileSet href="2" units-per-pixel="0.50000000000000" order="2"/>
        <TileSet href="3" units-per-pixel="0.25000000000000" order="3"/>
        <TileSet href="4" units-per-pixel="0.12500000000000" order="4"/>
        <TileSet href="5" units-per-pixel="0.06250000000000" order="5"/>
      </TileSets>
    </TileMap>
    